Workbook

Sheet 임자면
A1: 일일 수질검사 결과 (2024년 4월 4주)
A2: 연번 | B2: 검사항목 | C2: 단위 | D2: 수질기준 | E2: 임자면 부동정수장 검사결과
E3: 4월 22일(월) | F3: 4월 23일(화) | G3: 4월 24일(수) | H3: 4월 25일(목) | I3: 4월 26일(금) | J3: 4월 27일(토) | K3: 4월 28일(일)
A4: 1 | B4: 냄새 (Odor) | C4: - | D4: 무 취 | E4: 적합 | F4: 적합 | G4: 적합 | H4: 적합 | I4: 적합 | J4: 적합 | K4: 적합
A5: 2 | B5: 맛 (Taste) | C5: - | D5: 무 미 | E5: 적합 | F5: 적합 | G5: 적합 | H5: 적합 | I5: 적합 | J5: 적합 | K5: 적합
A6: 3 | B6: 수소이온농도 (pH) | C6: - | D6: 5.8 ~ 8.5 | E6: 7.09 | F6: 7.06 | G6: 7.05 | H6: 7.05 | I6: 7.04 | J6: 7.04 | K6: 7.05
A7: 4 | B7: 색도 (Color) | C7: 도 | D7: 5 이하 | E7: 1.45 | F7: 1.44 | G7: 1.45 | H7: 1.45 | I7: 1.45 | J7: 1.45 | K7: 1.44
A8: 5 | B8: 탁도 (Turbidity) | C8: NTU | D8: 0.5 이하 | E8: 0.47 | F8: 0.47 | G8: 0.47 | H8: 0.47 | I8: 0.47 | J8: 0.46 | K8: 0.49
A9: 6 | B9: 유리잔류염소 (Free residual chlorine) | C9: ㎎/L | D9: 4.0 이하 | E9: 0.5 | F9: 0.48 | G9: 0.49 | H9: 0.48 | I9: 0.48 | J9: 0.47 | K9: 0.57

Sheet 자은면
A1: =임자면!A1 -> 일일 수질검사 결과 (2024년 4월 4주)
A2: 연번 | B2: 검사항목 | C2: 단위 | D2: 수질기준 | E2: 자은면 유천정수장 검사결과
E3: =임자면!E3 -> 4월 22일(월) | F3: =임자면!F3 -> 4월 23일(화) | G3: =임자면!G3 -> 4월 24일(수) | H3: =임자면!H3 -> 4월 25일(목) | I3: =임자면!I3 -> 4월 26일(금) | J3: =임자면!J3 -> 4월 27일(토) | K3: =임자면!K3 -> 4월 28일(일)
A4: 1 | B4: 냄새 (Odor) | C4: - | D4: 무 취 | E4: 적합 | F4: 적합 | G4: 적합 | H4: 적합 | I4: 적합 | J4: 적합 | K4: 적합
A5: 2 | B5: 맛 (Taste) | C5: - | D5: 무 미 | E5: 적합 | F5: 적합 | G5: 적합 | H5: 적합 | I5: 적합 | J5: 적합 | K5: 적합
A6: 3 | B6: 수소이온농도 (pH) | C6: - | D6: 5.8 ~ 8.5 | E6: 7 | F6: 7 | G6: 7 | H6: 7 | I6: 7 | J6: 7.1 | K6: 7
A7: 4 | B7: 색도 (Color) | C7: 도 | D7: 5 이하 | E7: 0 | F7: 0 | G7: 0 | H7: 0 | I7: 0 | J7: 0 | K7: 0
A8: 5 | B8: 탁도 (Turbidity) | C8: NTU | D8: 0.5 이하 | E8: 0.38 | F8: 0.35 | G8: 0.32 | H8: 0.3 | I8: 0.25 | J8: 0.32 | K8: 0.33
A9: 6 | B9: 유리잔류염소 (Free residual chlorine) | C9: ㎎/L | D9: 4.0 이하 | E9: 0.8 | F9: 0.9 | G9: 0.8 | H9: 0.8 | I9: 0.9 | J9: 0.9 | K9: 1

Sheet 비금면
A1: =임자면!A1 -> 일일 수질검사 결과 (2024년 4월 4주)
A2: 연번 | B2: 검사항목 | C2: 단위 | D2: 수질기준 | E2: 비금면 한산정수장 검사결과
E3: =임자면!E3 -> 4월 22일(월) | F3: =임자면!F3 -> 4월 23일(화) | G3: =임자면!G3 -> 4월 24일(수) | H3: =임자면!H3 -> 4월 25일(목) | I3: =임자면!I3 -> 4월 26일(금) | J3: =임자면!J3 -> 4월 27일(토) | K3: =임자면!K3 -> 4월 28일(일)
A4: 1 | B4: 냄새 (Odor) | C4: - | D4: 무 취 | E4: 적합 | F4: 적합 | G4: 적합 | H4: 적합 | I4: 적합 | J4: 적합 | K4: 적합
A5: 2 | B5: 맛 (Taste) | C5: - | D5: 무 미 | E5: 적합 | F5: 적합 | G5: 적합 | H5: 적합 | I5: 적합 | J5: 적합 | K5: 적합
A6: 3 | B6: 수소이온농도 (pH) | C6: - | D6: 5.8 ~ 8.5 | E6: 7.1 | F6: 7.1 | G6: 7 | H6: 7 | I6: 7.1 | J6: 7.2 | K6: 7.2
A7: 4 | B7: 색도 (Color) | C7: 도 | D7: 5 이하 | E7: 2.1 | F7: 2 | G7: 2.1 | H7: 2.2 | I7: 2.2 | J7: 2.3 | K7: 2.2
A8: 5 | B8: 탁도 (Turbidity) | C8: NTU | D8: 0.5 이하 | E8: 0.45 | F8: 0.47 | G8: 0.45 | H8: 0.49 | I8: 0.48 | J8: 0.49 | K8: 0.47
A9: 6 | B9: 유리잔류염소 (Free residual chlorine) | C9: ㎎/L | D9: 4.0 이하 | E9: 0.82 | F9: 0.83 | G9: 0.79 | H9: 0.78 | I9: 0.8 | J9: 0.81 | K9: 0.82

Sheet 도초면
A1: =임자면!A1 -> 일일 수질검사 결과 (2024년 4월 4주)
A2: 연번 | B2: 검사항목 | C2: 단위 | D2: 수질기준 | E2: 도초면 죽연정수장 검사결과
E3: =임자면!E3 -> 4월 22일(월) | F3: =임자면!F3 -> 4월 23일(화) | G3: =임자면!G3 -> 4월 24일(수) | H3: =임자면!H3 -> 4월 25일(목) | I3: =임자면!I3 -> 4월 26일(금) | J3: =임자면!J3 -> 4월 27일(토) | K3: =임자면!K3 -> 4월 28일(일)
A4: 1 | B4: 냄새 (Odor) | C4: - | D4: 무 취 | E4: 적합 | F4: 적합 | G4: 적합 | H4: 적합 | I4: 적합 | J4: 적합 | K4: 적합
A5: 2 | B5: 맛 (Taste) | C5: - | D5: 무 미 | E5: 적합 | F5: 적합 | G5: 적합 | H5: 적합 | I5: 적합 | J5: 적합 | K5: 적합
A6: 3 | B6: 수소이온농도 (pH) | C6: - | D6: 5.8 ~ 8.5 | E6: 6.8 | F6: 6.8 | G6: 6.8 | H6: 6.8 | I6: 6.9 | J6: 7 | K6: 6.9
A7: 4 | B7: 색도 (Color) | C7: 도 | D7: 5 이하 | E7: 2 | F7: 2 | G7: 2 | H7: 2 | I7: 2 | J7: 1.7 | K7: 2
A8: 5 | B8: 탁도 (Turbidity) | C8: NTU | D8: 0.5 이하 | E8: 0.22 | F8: 0.18 | G8: 0.18 | H8: 0.17 | I8: 0.25 | J8: 0.25 | K8: 0.25
A9: 6 | B9: 유리잔류염소 (Free residual chlorine) | C9: ㎎/L | D9: 4.0 이하 | E9: 1.1 | F9: 1.1 | G9: 1.1 | H9: 1.1 | I9: 1.3 | J9: 1.2 | K9: 1.2

Sheet 흑산면
A1: =임자면!A1 -> 일일 수질검사 결과 (2024년 4월 4주)
A2: 연번 | B2: 검사항목 | C2: 단위 | D2: 수질기준 | E2: 흑산면 천촌정수장 검사결과
E3: =임자면!E3 -> 4월 22일(월) | F3: =임자면!F3 -> 4월 23일(화) | G3: =임자면!G3 -> 4월 24일(수) | H3: =임자면!H3 -> 4월 25일(목) | I3: =임자면!I3 -> 4월 26일(금) | J3: =임자면!J3 -> 4월 27일(토) | K3: =임자면!K3 -> 4월 28일(일)
A4: 1 | B4: 냄새 (Odor) | C4: - | D4: 무 취 | E4: 적합 | F4: 적합 | G4: 적합 | H4: 적합 | I4: 적합 | J4: 적합 | K4: 적합
A5: 2 | B5: 맛 (Taste) | C5: - | D5: 무 미 | E5: 적합 | F5: 적합 | G5: 적합 | H5: 적합 | I5: 적합 | J5: 적합 | K5: 적합
A6: 3 | B6: 수소이온농도 (pH) | C6: - | D6: 5.8 ~ 8.5 | E6: 7.05 | F6: 7.1 | G6: 7.05 | H6: 7.1 | I6: 7.1 | J6: 7.1 | K6: 7.1
A7: 4 | B7: 색도 (Color) | C7: 도 | D7: 5 이하 | E7: 4.45 | F7: 4.5 | G7: 4.5 | H7: 4.5 | I7: 4.4 | J7: 4.4 | K7: 4.45
A8: 5 | B8: 탁도 (Turbidity) | C8: NTU | D8: 0.5 이하 | E8: 0.385 | F8: 0.38 | G8: 0.37 | H8: 0.39 | I8: 0.385 | J8: 0.38 | K8: 0.39
A9: 6 | B9: 유리잔류염소 (Free residual chlorine) | C9: ㎎/L | D9: 4.0 이하 | E9: 0.385 | F9: 0.37 | G9: 0.38 | H9: 0.38 | I9: 0.39 | J9: 0.39 | K9: 0.38

Sheet 하의면
A1: =임자면!A1 -> 일일 수질검사 결과 (2024년 4월 4주)
A2: 연번 | B2: 검사항목 | C2: 단위 | D2: 수질기준 | E2: 하의면 어은정수장 검사결과
E3: =임자면!E3 -> 4월 22일(월) | F3: =임자면!F3 -> 4월 23일(화) | G3: =임자면!G3 -> 4월 24일(수) | H3: =임자면!H3 -> 4월 25일(목) | I3: =임자면!I3 -> 4월 26일(금) | J3: =임자면!J3 -> 4월 27일(토) | K3: =임자면!K3 -> 4월 28일(일)
A4: 1 | B4: 냄새 (Odor) | C4: - | D4: 무 취 | E4: 적합 | F4: 적합 | G4: 적합 | H4: 적합 | I4: 적합 | J4: 적합 | K4: 적합
A5: 2 | B5: 맛 (Taste) | C5: - | D5: 무 미 | E5: 적합 | F5: 적합 | G5: 적합 | H5: 적합 | I5: 적합 | J5: 적합 | K5: 적합
A6: 3 | B6: 수소이온농도 (pH) | C6: - | D6: 5.8 ~ 8.5 | E6: 6.75 | F6: 6.8 | G6: 6.88 | H6: 6.9 | I6: 7.1 | J6: 6.55 | K6: 6.85
A7: 4 | B7: 색도 (Color) | C7: 도 | D7: 5 이하 | E7: 3 | F7: 4 | G7: 3 | H7: 2 | I7: 4 | J7: 3 | K7: 3
A8: 5 | B8: 탁도 (Turbidity) | C8: NTU | D8: 0.5 이하 | E8: 0.2 | F8: 0.17 | G8: 0.18 | H8: 0.16 | I8: 0.18 | J8: 0.166 | K8: 0.177
A9: 6 | B9: 유리잔류염소 (Free residual chlorine) | C9: ㎎/L | D9: 4.0 이하 | E9: 0.69 | F9: 0.7 | G9: 0.76 | H9: 0.8 | I9: 0.88 | J9: 0.91 | K9: 0.944

Sheet 신의면
A1: =임자면!A1 -> 일일 수질검사 결과 (2024년 4월 4주)
A2: 연번 | B2: 검사항목 | C2: 단위 | D2: 수질기준 | E2: 신의면 하태정수장 검사결과
E3: =임자면!E3 -> 4월 22일(월) | F3: =임자면!F3 -> 4월 23일(화) | G3: =임자면!G3 -> 4월 24일(수) | H3: =임자면!H3 -> 4월 25일(목) | I3: =임자면!I3 -> 4월 26일(금) | J3: =임자면!J3 -> 4월 27일(토) | K3: =임자면!K3 -> 4월 28일(일)
A4: 1 | B4: 냄새 (Odor) | C4: - | D4: 무 취 | E4: 적합 | F4: 적합 | G4: 적합 | H4: 적합 | I4: 적합 | J4: 적합 | K4: 적합
A5: 2 | B5: 맛 (Taste) | C5: - | D5: 무 미 | E5: 적합 | F5: 적합 | G5: 적합 | H5: 적합 | I5: 적합 | J5: 적합 | K5: 적합
A6: 3 | B6: 수소이온농도 (pH) | C6: - | D6: 5.8 ~ 8.5 | E6: 7.7 | F6: 7.7 | G6: 7.7 | H6: 7.7 | I6: 7.7 | J6: 7.7 | K6: 7.7
A7: 4 | B7: 색도 (Color) | C7: 도 | D7: 5 이하 | E7: 3 | F7: 3 | G7: 3 | H7: 3 | I7: 3 | J7: 3 | K7: 3
A8: 5 | B8: 탁도 (Turbidity) | C8: NTU | D8: 0.5 이하 | E8: 0.32 | F8: 0.35 | G8: 0.33 | H8: 0.36 | I8: 0.32 | J8: 0.3 | K8: 0.31
A9: 6 | B9: 유리잔류염소 (Free residual chlorine) | C9: ㎎/L | D9: 4.0 이하 | E9: 0.8 | F9: 0.7 | G9: 0.9 | H9: 1 | I9: 1.1 | J9: 0.9 | K9: 0.8

Sheet 장산면
A1: =임자면!A1 -> 일일 수질검사 결과 (2024년 4월 4주)
A2: 연번 | B2: 검사항목 | C2: 단위 | D2: 수질기준 | E2: 장산면 대리정수장 검사결과
E3: =임자면!E3 -> 4월 22일(월) | F3: =임자면!F3 -> 4월 23일(화) | G3: =임자면!G3 -> 4월 24일(수) | H3: =임자면!H3 -> 4월 25일(목) | I3: =임자면!I3 -> 4월 26일(금) | J3: =임자면!J3 -> 4월 27일(토) | K3: =임자면!K3 -> 4월 28일(일)
A4: 1 | B4: 냄새 (Odor) | C4: - | D4: 무 취 | E4: 적합 | F4: 적합 | G4: 적합 | H4: 적합 | I4: 적합 | J4: 적합 | K4: 적합
A5: 2 | B5: 맛 (Taste) | C5: - | D5: 무 미 | E5: 적합 | F5: 적합 | G5: 적합 | H5: 적합 | I5: 적합 | J5: 적합 | K5: 적합
A6: 3 | B6: 수소이온농도 (pH) | C6: - | D6: 5.8 ~ 8.5 | E6: 6.98 | F6: 6.97 | G6: 6.97 | H6: 7.02 | I6: 7.02 | J6: 6.92 | K6: 6.98
A7: 4 | B7: 색도 (Color) | C7: 도 | D7: 5 이하 | E7: 3.1 | F7: 3 | G7: 3 | H7: 3.1 | I7: 3.1 | J7: 3 | K7: 3
A8: 5 | B8: 탁도 (Turbidity) | C8: NTU | D8: 0.5 이하 | E8: 0.24 | F8: 0.25 | G8: 0.25 | H8: 0.25 | I8: 0.24 | J8: 0.24 | K8: 0.24
A9: 6 | B9: 유리잔류염소 (Free residual chlorine) | C9: ㎎/L | D9: 4.0 이하 | E9: 0.52 | F9: 0.51 | G9: 0.52 | H9: 0.51 | I9: 0.53 | J9: 0.52 | K9: 0.5

Sheet 안좌면
A1: =임자면!A1 -> 일일 수질검사 결과 (2024년 4월 4주)
A2: 연번 | B2: 검사항목 | C2: 단위 | D2: 수질기준 | E2: 안좌면 오동정수장 검사결과
E3: =임자면!E3 -> 4월 22일(월) | F3: =임자면!F3 -> 4월 23일(화) | G3: =임자면!G3 -> 4월 24일(수) | H3: =임자면!H3 -> 4월 25일(목) | I3: =임자면!I3 -> 4월 26일(금) | J3: =임자면!J3 -> 4월 27일(토) | K3: =임자면!K3 -> 4월 28일(일)
A4: 1 | B4: 냄새 (Odor) | C4: - | D4: 무 취 | E4: 적합 | F4: 적합 | G4: 적합 | H4: 적합 | I4: 적합 | J4: 적합 | K4: 적합
A5: 2 | B5: 맛 (Taste) | C5: - | D5: 무 미 | E5: 적합 | F5: 적합 | G5: 적합 | H5: 적합 | I5: 적합 | J5: 적합 | K5: 적합
A6: 3 | B6: 수소이온농도 (pH) | C6: - | D6: 5.8 ~ 8.5 | E6: 7 | F6: 7.2 | G6: 7 | H6: 7.2 | I6: 7 | J6: 7 | K6: 7
A7: 4 | B7: 색도 (Color) | C7: 도 | D7: 5 이하 | E7: 0.4 | F7: 0.047 | G7: 0 | H7: 0.041 | I7: 0 | J7: 0 | K7: 0
A8: 5 | B8: 탁도 (Turbidity) | C8: NTU | D8: 0.5 이하 | E8: 0.3 | F8: 0.31 | G8: 0.3 | H8: 0.27 | I8: 0.3 | J8: 0.3 | K8: 0.3
A9: 6 | B9: 유리잔류염소 (Free residual chlorine) | C9: ㎎/L | D9: 4.0 이하 | E9: 0.9 | F9: 0.76 | G9: 0.8 | H9: 0.65 | I9: 0.6 | J9: 0.7 | K9: 0.8

Sheet 암태면
A1: =임자면!A1 -> 일일 수질검사 결과 (2024년 4월 4주)
A2: 연번 | B2: 검사항목 | C2: 단위 | D2: 수질기준 | E2: 암태면 수곡정수장 검사결과
E3: =임자면!E3 -> 4월 22일(월) | F3: =임자면!F3 -> 4월 23일(화) | G3: =임자면!G3 -> 4월 24일(수) | H3: =임자면!H3 -> 4월 25일(목) | I3: =임자면!I3 -> 4월 26일(금) | J3: =임자면!J3 -> 4월 27일(토) | K3: =임자면!K3 -> 4월 28일(일)
A4: 1 | B4: 냄새 (Odor) | C4: - | D4: 무 취 | E4: 적합 | F4: 적합 | G4: 적합 | H4: 적합 | I4: 적합 | J4: 적합 | K4: 적합
A5: 2 | B5: 맛 (Taste) | C5: - | D5: 무 미 | E5: 적합 | F5: 적합 | G5: 적합 | H5: 적합 | I5: 적합 | J5: 적합 | K5: 적합
A6: 3 | B6: 수소이온농도 (pH) | C6: - | D6: 5.8 ~ 8.5 | E6: 7.09 | F6: 7.07 | G6: 7.12 | H6: 7.08 | I6: 7.11 | J6: 7.03 | K6: 7.14
A7: 4 | B7: 색도 (Color) | C7: 도 | D7: 5 이하 | E7: 1 | F7: 1 | G7: 1 | H7: 1 | I7: 1 | J7: 1 | K7: 1
A8: 5 | B8: 탁도 (Turbidity) | C8: NTU | D8: 0.5 이하 | E8: 0.27 | F8: 0.22 | G8: 0.21 | H8: 0.31 | I8: 0.28 | J8: 0.26 | K8: 0.23
A9: 6 | B9: 유리잔류염소 (Free residual chlorine) | C9: ㎎/L | D9: 4.0 이하 | E9: 0.87 | F9: 0.89 | G9: 0.87 | H9: 0.88 | I9: 0.89 | J9: 0.84 | K9: 0.86
