Workbook

Sheet 임자면
A1: 일일 수질검사 결과(2025년 5월 3주)
A2: 연번 | B2: 검사항목 | C2: 단위 | D2: 수질기준 | E2: 임자면 부동정수장 검사결과
E3: 05월12일(월) | F3: 05월13일(화) | G3: 05월14일(수) | H3: 05월15일(목) | I3: 05월16일(금) | J3: 05월17일(토) | K3: 05월18일(일)
A4: 1 | B4: 냄새 (Odor) | C4: - | D4: 무 취 | E4: 적합 | F4: 적합 | G4: 적합 | H4: 적합 | I4: 적합 | J4: 적합 | K4: 적합
A5: 2 | B5: 맛 (Taste) | C5: - | D5: 무 미 | E5: 적합 | F5: 적합 | G5: 적합 | H5: 적합 | I5: 적합 | J5: 적합 | K5: 적합
A6: 3 | B6: 수소이온농도 (pH) | C6: - | D6: 5.8 ~ 8.5 | E6: 7.39 | F6: 7.39 | G6: 7.39 | H6: 7.38 | I6: 7.36 | J6: 7.35 | K6: 7.34
A7: 4 | B7: 색도 (Color) | C7: 도 | D7: 5 이하 | E7: 1.45 | F7: 1.45 | G7: 1.45 | H7: 1.45 | I7: 1.45 | J7: 1.45 | K7: 1.45
A8: 5 | B8: 탁도 (Turbidity) | C8: NTU | D8: 0.5 이하 | E8: 0.23 | F8: 0.22 | G8: 0.21 | H8: 0.21 | I8: 0.21 | J8: 0.21 | K8: 0.21
A9: 6 | B9: 유리잔류염소 (Free residual chlorine) | C9: ㎎/L | D9: 4.0 이하 | E9: 0.74 | F9: 0.74 | G9: 0.73 | H9: 0.72 | I9: 0.73 | J9: 0.72 | K9: 0.71

Sheet 자은면
A1: =임자면!A1 -> 일일 수질검사 결과(2025년 5월 3주)
A2: 연번 | B2: 검사항목 | C2: 단위 | D2: 수질기준 | E2: 자은면 유천정수장 검사결과
E3: =임자면!E3 -> 05월12일(월) | F3: =임자면!F3 -> 05월13일(화) | G3: =임자면!G3 -> 05월14일(수) | H3: =임자면!H3 -> 05월15일(목) | I3: =임자면!I3 -> 05월16일(금) | J3: =임자면!J3 -> 05월17일(토) | K3: =임자면!K3 -> 05월18일(일)
A4: 1 | B4: 냄새 (Odor) | C4: - | D4: 무 취 | E4: 적합 | F4: 적합 | G4: 적합 | H4: 적합 | I4: 적합 | J4: 적합 | K4: 적합
A5: 2 | B5: 맛 (Taste) | C5: - | D5: 무 미 | E5: 적합 | F5: 적합 | G5: 적합 | H5: 적합 | I5: 적합 | J5: 적합 | K5: 적합
A6: 3 | B6: 수소이온농도 (pH) | C6: - | D6: 5.8 ~ 8.5 | E6: 7.1 | F6: 7 | G6: 7 | H6: 7 | I6: 7 | J6: 7.1 | K6: 7
A7: 4 | B7: 색도 (Color) | C7: 도 | D7: 5 이하 | E7: 0 | F7: 0 | G7: 0 | H7: 0 | I7: 0 | J7: 0 | K7: 0
A8: 5 | B8: 탁도 (Turbidity) | C8: NTU | D8: 0.5 이하 | E8: 0.33 | F8: 0.32 | G8: 0.33 | H8: 0.33 | I8: 0.33 | J8: 0.32 | K8: 0.33
A9: 6 | B9: 유리잔류염소 (Free residual chlorine) | C9: ㎎/L | D9: 4.0 이하 | E9: 0.81 | F9: 0.83 | G9: 0.85 | H9: 0.84 | I9: 0.83 | J9: 0.83 | K9: 0.82

Sheet 비금면
A1: =임자면!A1 -> 일일 수질검사 결과(2025년 5월 3주)
A2: 연번 | B2: 검사항목 | C2: 단위 | D2: 수질기준 | E2: 비금면 한산정수장 검사결과
E3: =자은면!E3 -> 05월12일(월) | F3: =자은면!F3 -> 05월13일(화) | G3: =자은면!G3 -> 05월14일(수) | H3: =자은면!H3 -> 05월15일(목) | I3: =자은면!I3 -> 05월16일(금) | J3: =자은면!J3 -> 05월17일(토) | K3: =자은면!K3 -> 05월18일(일)
A4: 1 | B4: 냄새 (Odor) | C4: - | D4: 무 취 | E4: 적합 | F4: 적합 | G4: 적합 | H4: 적합 | I4: 적합 | J4: 적합 | K4: 적합
A5: 2 | B5: 맛 (Taste) | C5: - | D5: 무 미 | E5: 적합 | F5: 적합 | G5: 적합 | H5: 적합 | I5: 적합 | J5: 적합 | K5: 적합
A6: 3 | B6: 수소이온농도 (pH) | C6: - | D6: 5.8 ~ 8.5 | E6: 7.2 | F6: 7.1 | G6: 7.2 | H6: 7.1 | I6: 7.1 | J6: 7.2 | K6: 7.2
A7: 4 | B7: 색도 (Color) | C7: 도 | D7: 5 이하 | E7: 1.4 | F7: 1.3 | G7: 1.2 | H7: 1.3 | I7: 1.3 | J7: 1.2 | K7: 1.3
A8: 5 | B8: 탁도 (Turbidity) | C8: NTU | D8: 0.5 이하 | E8: 0.19 | F8: 0.2 | G8: 0.2 | H8: 0.21 | I8: 0.2 | J8: 0.2 | K8: 0.21
A9: 6 | B9: 유리잔류염소 (Free residual chlorine) | C9: ㎎/L | D9: 4.0 이하 | E9: 0.51 | F9: 0.52 | G9: 0.52 | H9: 0.52 | I9: 0.52 | J9: 0.51 | K9: 0.52

Sheet 도초면
A1: =임자면!A1 -> 일일 수질검사 결과(2025년 5월 3주)
A2: 연번 | B2: 검사항목 | C2: 단위 | D2: 수질기준 | E2: 도초면 죽련정수장 검사결과
E3: =비금면!E3 -> 05월12일(월) | F3: =비금면!F3 -> 05월13일(화) | G3: =비금면!G3 -> 05월14일(수) | H3: =비금면!H3 -> 05월15일(목) | I3: =비금면!I3 -> 05월16일(금) | J3: =비금면!J3 -> 05월17일(토) | K3: =비금면!K3 -> 05월18일(일)
A4: 1 | B4: 냄새 (Odor) | C4: - | D4: 무 취 | E4: 적합 | F4: 적합 | G4: 적합 | H4: 적합 | I4: 적합 | J4: 적합 | K4: 적합
A5: 2 | B5: 맛 (Taste) | C5: - | D5: 무 미 | E5: 적합 | F5: 적합 | G5: 적합 | H5: 적합 | I5: 적합 | J5: 적합 | K5: 적합
A6: 3 | B6: 수소이온농도 (pH) | C6: - | D6: 5.8 ~ 8.5 | E6: 7 | F6: 7.2 | G6: 7.5 | H6: 7.4 | I6: 7.1 | J6: 7.1 | K6: 7
A7: 4 | B7: 색도 (Color) | C7: 도 | D7: 5 이하 | E7: 0 | F7: 0 | G7: 0 | H7: 0 | I7: 0 | J7: 0 | K7: 0
A8: 5 | B8: 탁도 (Turbidity) | C8: NTU | D8: 0.5 이하 | E8: 0.2 | F8: 0.18 | G8: 0.2 | H8: 0.23 | I8: 0.22 | J8: 0.24 | K8: 0.21
A9: 6 | B9: 유리잔류염소 (Free residual chlorine) | C9: ㎎/L | D9: 4.0 이하 | E9: 1 | F9: 0.9 | G9: 0.9 | H9: 0.8 | I9: 0.9 | J9: 0.9 | K9: 1

Sheet 흑산면
A1: =임자면!A1 -> 일일 수질검사 결과(2025년 5월 3주)
A2: 연번 | B2: 검사항목 | C2: 단위 | D2: 수질기준 | E2: 흑산면 천촌정수장 검사결과
E3: =도초면!E3 -> 05월12일(월) | F3: =도초면!F3 -> 05월13일(화) | G3: =도초면!G3 -> 05월14일(수) | H3: =도초면!H3 -> 05월15일(목) | I3: =도초면!I3 -> 05월16일(금) | J3: =도초면!J3 -> 05월17일(토) | K3: =도초면!K3 -> 05월18일(일)
A4: 1 | B4: 냄새 (Odor) | C4: - | D4: 무 취 | E4: 적합 | F4: 적합 | G4: 적합 | H4: 적합 | I4: 적합 | J4: 적합 | K4: 적합
A5: 2 | B5: 맛 (Taste) | C5: - | D5: 무 미 | E5: 적합 | F5: 적합 | G5: 적합 | H5: 적합 | I5: 적합 | J5: 적합 | K5: 적합
A6: 3 | B6: 수소이온농도 (pH) | C6: - | D6: 5.8 ~ 8.5 | E6: 7.1 | F6: 7.2 | G6: 7.1 | H6: 7.1 | I6: 7.1 | J6: 7.2 | K6: 7.2
A7: 4 | B7: 색도 (Color) | C7: 도 | D7: 5 이하 | E7: 4.7 | F7: 4.8 | G7: 4.8 | H7: 4.8 | I7: 4.8 | J7: 4.7 | K7: 4.8
A8: 5 | B8: 탁도 (Turbidity) | C8: NTU | D8: 0.5 이하 | E8: 0.38 | F8: 0.37 | G8: 0.38 | H8: 0.37 | I8: 0.38 | J8: 0.37 | K8: 0.38
A9: 6 | B9: 유리잔류염소 (Free residual chlorine) | C9: ㎎/L | D9: 4.0 이하 | E9: 0.37 | F9: 0.38 | G9: 0.38 | H9: 0.38 | I9: 0.39 | J9: 0.37 | K9: 0.38

Sheet 하의면
A1: =임자면!A1 -> 일일 수질검사 결과(2025년 5월 3주)
A2: 연번 | B2: 검사항목 | C2: 단위 | D2: 수질기준 | E2: 하의면 어은정수장 검사결과
E3: =흑산면!E3 -> 05월12일(월) | F3: =흑산면!F3 -> 05월13일(화) | G3: =흑산면!G3 -> 05월14일(수) | H3: =흑산면!H3 -> 05월15일(목) | I3: =흑산면!I3 -> 05월16일(금) | J3: =흑산면!J3 -> 05월17일(토) | K3: =흑산면!K3 -> 05월18일(일)
A4: 1 | B4: 냄새 (Odor) | C4: - | D4: 무 취 | E4: 적합 | F4: 적합 | G4: 적합 | H4: 적합 | I4: 적합 | J4: 적합 | K4: 적합
A5: 2 | B5: 맛 (Taste) | C5: - | D5: 무 미 | E5: 적합 | F5: 적합 | G5: 적합 | H5: 적합 | I5: 적합 | J5: 적합 | K5: 적합
A6: 3 | B6: 수소이온농도 (pH) | C6: - | D6: 5.8 ~ 8.5 | E6: 7.22 | F6: 6.9 | G6: 7.17 | H6: 7.1 | I6: 7.01 | J6: 7.23 | K6: 7.2
A7: 4 | B7: 색도 (Color) | C7: 도 | D7: 5 이하 | E7: 2 | F7: 3 | G7: 2 | H7: 3 | I7: 3 | J7: 2 | K7: 2
A8: 5 | B8: 탁도 (Turbidity) | C8: NTU | D8: 0.5 이하 | E8: 0.15 | F8: 0.16 | G8: 0.15 | H8: 0.15 | I8: 0.15 | J8: 0.15 | K8: 0.15
A9: 6 | B9: 유리잔류염소 (Free residual chlorine) | C9: ㎎/L | D9: 4.0 이하 | E9: 0.42 | F9: 0.46 | G9: 0.75 | H9: 0.52 | I9: 0.59 | J9: 0.55 | K9: 0.98

Sheet 신의면
A1: =임자면!A1 -> 일일 수질검사 결과(2025년 5월 3주)
A2: 연번 | B2: 검사항목 | C2: 단위 | D2: 수질기준 | E2: 신의면 하태정수장 검사결과
E3: =하의면!E3 -> 05월12일(월) | F3: =하의면!F3 -> 05월13일(화) | G3: =하의면!G3 -> 05월14일(수) | H3: =하의면!H3 -> 05월15일(목) | I3: =하의면!I3 -> 05월16일(금) | J3: =하의면!J3 -> 05월17일(토) | K3: =하의면!K3 -> 05월18일(일)
A4: 1 | B4: 냄새 (Odor) | C4: - | D4: 무 취 | E4: 적합 | F4: 적합 | G4: 적합 | H4: 적합 | I4: 적합 | J4: 적합 | K4: 적합
A5: 2 | B5: 맛 (Taste) | C5: - | D5: 무 미 | E5: 적합 | F5: 적합 | G5: 적합 | H5: 적합 | I5: 적합 | J5: 적합 | K5: 적합
A6: 3 | B6: 수소이온농도 (pH) | C6: - | D6: 5.8 ~ 8.5 | E6: 7.3 | F6: 7.3 | G6: 7.3 | H6: 7.3 | I6: 7.3 | J6: 7.3 | K6: 7.3
A7: 4 | B7: 색도 (Color) | C7: 도 | D7: 5 이하 | E7: 3 | F7: 3 | G7: 3 | H7: 3 | I7: 3 | J7: 3 | K7: 3
A8: 5 | B8: 탁도 (Turbidity) | C8: NTU | D8: 0.5 이하 | E8: 0.47 | F8: 0.45 | G8: 0.46 | H8: 0.45 | I8: 0.39 | J8: 0.38 | K8: 0.37
A9: 6 | B9: 유리잔류염소 (Free residual chlorine) | C9: ㎎/L | D9: 4.0 이하 | E9: 0.9 | F9: 0.8 | G9: 0.9 | H9: 1 | I9: 0.9 | J9: 0.9 | K9: 0.9

Sheet 장산면
A1: =임자면!A1 -> 일일 수질검사 결과(2025년 5월 3주)
A2: 연번 | B2: 검사항목 | C2: 단위 | D2: 수질기준 | E2: 장산면 대리정수장 검사결과
E3: =신의면!E3 -> 05월12일(월) | F3: =신의면!F3 -> 05월13일(화) | G3: =신의면!G3 -> 05월14일(수) | H3: =신의면!H3 -> 05월15일(목) | I3: =신의면!I3 -> 05월16일(금) | J3: =신의면!J3 -> 05월17일(토) | K3: =신의면!K3 -> 05월18일(일)
A4: 1 | B4: 냄새 (Odor) | C4: - | D4: 무 취 | E4: 적합 | F4: 적합 | G4: 적합 | H4: 적합 | I4: 적합 | J4: 적합 | K4: 적합
A5: 2 | B5: 맛 (Taste) | C5: - | D5: 무 미 | E5: 적합 | F5: 적합 | G5: 적합 | H5: 적합 | I5: 적합 | J5: 적합 | K5: 적합
A6: 3 | B6: 수소이온농도 (pH) | C6: - | D6: 5.8 ~ 8.5 | E6: 6.65 | F6: 6.68 | G6: 6.66 | H6: 6.64 | I6: 6.67 | J6: 6.65 | K6: 6.67
A7: 4 | B7: 색도 (Color) | C7: 도 | D7: 5 이하 | E7: 3.1 | F7: 3.1 | G7: 3.1 | H7: 3.1 | I7: 3.1 | J7: 3.1 | K7: 3.1
A8: 5 | B8: 탁도 (Turbidity) | C8: NTU | D8: 0.5 이하 | E8: 0.25 | F8: 0.23 | G8: 0.24 | H8: 0.24 | I8: 0.22 | J8: 0.21 | K8: 0.23
A9: 6 | B9: 유리잔류염소 (Free residual chlorine) | C9: ㎎/L | D9: 4.0 이하 | E9: 0.7 | F9: 0.67 | G9: 0.68 | H9: 0.71 | I9: 0.69 | J9: 0.67 | K9: 0.7

Sheet 안좌면
A1: =임자면!A1 -> 일일 수질검사 결과(2025년 5월 3주)
A2: 연번 | B2: 검사항목 | C2: 단위 | D2: 수질기준 | E2: 안좌면 오동정수장 검사결과
E3: =장산면!E3 -> 05월12일(월) | F3: =장산면!F3 -> 05월13일(화) | G3: =장산면!G3 -> 05월14일(수) | H3: =장산면!H3 -> 05월15일(목) | I3: =장산면!I3 -> 05월16일(금) | J3: =장산면!J3 -> 05월17일(토) | K3: =장산면!K3 -> 05월18일(일)
A4: 1 | B4: 냄새 (Odor) | C4: - | D4: 무 취 | E4: 적합 | F4: 적합 | G4: 적합 | H4: 적합 | I4: 적합 | J4: 적합 | K4: 적합
A5: 2 | B5: 맛 (Taste) | C5: - | D5: 무 미 | E5: 적합 | F5: 적합 | G5: 적합 | H5: 적합 | I5: 적합 | J5: 적합 | K5: 적합
A6: 3 | B6: 수소이온농도 (pH) | C6: - | D6: 5.8 ~ 8.5 | E6: 7.1 | F6: 7.1 | G6: 7.1 | H6: 7 | I6: 7 | J6: 7 | K6: 7.1
A7: 4 | B7: 색도 (Color) | C7: 도 | D7: 5 이하 | E7: 0.2 | F7: 0.208 | G7: 0.2 | H7: 0.208 | I7: 0.2 | J7: 0.2 | K7: 0.2
A8: 5 | B8: 탁도 (Turbidity) | C8: NTU | D8: 0.5 이하 | E8: 0.4 | F8: 0.4 | G8: 0.4 | H8: 0.4 | I8: 0.4 | J8: 0.4 | K8: 0.4
A9: 6 | B9: 유리잔류염소 (Free residual chlorine) | C9: ㎎/L | D9: 4.0 이하 | E9: 1.01 | F9: 0.9 | G9: 0.94 | H9: 0.91 | I9: 0.9 | J9: 0.9 | K9: 0.94

Sheet 암태면
A1: =임자면!A1 -> 일일 수질검사 결과(2025년 5월 3주)
A2: 연번 | B2: 검사항목 | C2: 단위 | D2: 수질기준 | E2: 암태면 수곡정수장 검사결과
E3: =안좌면!E3 -> 05월12일(월) | F3: =안좌면!F3 -> 05월13일(화) | G3: =안좌면!G3 -> 05월14일(수) | H3: =안좌면!H3 -> 05월15일(목) | I3: =안좌면!I3 -> 05월16일(금) | J3: =안좌면!J3 -> 05월17일(토) | K3: =안좌면!K3 -> 05월18일(일)
A4: 1 | B4: 냄새 (Odor) | C4: - | D4: 무 취 | E4: 적합 | F4: 적합 | G4: 적합 | H4: 적합 | I4: 적합 | J4: 적합 | K4: 적합
A5: 2 | B5: 맛 (Taste) | C5: - | D5: 무 미 | E5: 적합 | F5: 적합 | G5: 적합 | H5: 적합 | I5: 적합 | J5: 적합 | K5: 적합
A6: 3 | B6: 수소이온농도 (pH) | C6: - | D6: 5.8 ~ 8.5 | E6: 7.2 | F6: 7.11 | G6: 7.06 | H6: 7.04 | I6: 7.07 | J6: 7.05 | K6: 7.04
A7: 4 | B7: 색도 (Color) | C7: 도 | D7: 5 이하 | E7: 1 | F7: 1 | G7: 1 | H7: 1 | I7: 1 | J7: 1 | K7: 1
A8: 5 | B8: 탁도 (Turbidity) | C8: NTU | D8: 0.5 이하 | E8: 0.18 | F8: 0.21 | G8: 0.22 | H8: 0.19 | I8: 0.23 | J8: 0.21 | K8: 0.2
A9: 6 | B9: 유리잔류염소 (Free residual chlorine) | C9: ㎎/L | D9: 4.0 이하 | E9: 0.91 | F9: 0.9 | G9: 0.87 | H9: 0.88 | I9: 0.86 | J9: 0.88 | K9: 0.89
